BEGIN:VCALENDAR
VERSION:2.0
PRODID:-//Village of North Hills - ECPv6.10.0//NONSGML v1.0//EN
CALSCALE:GREGORIAN
METHOD:PUBLISH
X-ORIGINAL-URL:https://www.northhillsny.gov
X-WR-CALDESC:Events for Village of North Hills
REFRESH-INTERVAL;VALUE=DURATION:PT1H
X-Robots-Tag:noindex
X-PUBLISHED-TTL:PT1H
BEGIN:VTIMEZONE
TZID:America/New_York
BEGIN:DAYLIGHT
TZOFFSETFROM:-0500
TZOFFSETTO:-0400
TZNAME:EDT
DTSTART:20260308T070000
END:DAYLIGHT
BEGIN:STANDARD
TZOFFSETFROM:-0400
TZOFFSETTO:-0500
TZNAME:EST
DTSTART:20261101T060000
END:STANDARD
END:VTIMEZONE
BEGIN:VEVENT
DTSTART;TZID=America/New_York:20260428T193000
DTEND;TZID=America/New_York:20260428T213000
DTSTAMP:20260421T134448
CREATED:20260401T191431Z
LAST-MODIFIED:20260413T143901Z
UID:10000114-1777404600-1777411800@www.northhillsny.gov
SUMMARY:Board of Appeals Meeting
DESCRIPTION:4.28.26 North Hills BOA Meeting Public Hearing Notice APPL #26-05za Subbaiah & Thakore – 30 Sequoia Circle \n4.28.26 North Hills BOA Meeting Public Hearing Notice APPL #26-06za Mo – 6 Folie Court \n4.28.26 North Hills BOA Meeting Public Hearing Notice APPL #26-07za Chan & Fan – 94 Windsor Gate Drive \n4.28.26 North Hills BOA Meeting Public Hearing Notice APPL #26-08za Varughese – 40 IU Willets Road
URL:https://www.northhillsny.gov/meetings/board-of-appeals-meeting-17/
END:VEVENT
END:VCALENDAR